{"text_format":"3","workbook":"xlsx","n_sheets":1,"sheets":["sheet1"],"not_rendered":{"external_links":1,"defined_names":2},"read":"whole","date_system":"1900"}

{"sheet":"sheet1","index":0,"n_rows":93,"n_cols":14,"rows_kept":93,"merged":[[0,0,0,13],[1,0,1,13],[23,0,23,13],[35,0,35,13],[41,0,41,13],[57,0,57,13]]}
["青海省第四人民医院                                                                                                                                                                                    2019年上半年公开招聘编制外工作人员暨赴省外                                                                                                                                         招聘紧缺人才拟聘用人员名单"]
["护理学"]
["序号","姓名","性别","出生年月","学历","毕业院校","专业","准考证号","笔试成绩","笔试成绩70%","面试成绩","面试成绩30%","总成绩","备注"]
[1,"刘桂梅","女",1990.07,{"$f":"VLOOKUP(B4:B23,[1]护理学!$B$3:$H$228,7,0)","v":"大专"},{"$f":"VLOOKUP(B4:B23,[1]护理学!$B$3:$J$228,9,0)","v":"青海卫生职业技术学院"},"护理学","042",{"v":89,"d":"89.00"},{"$f":"I4*0.7","v":{"v":62.3,"d":"62.30"}},{"v":88,"d":"88.00"},{"$f":"K4*0.3","v":{"v":26.4,"d":"26.40"}},{"$f":"J4+L4","v":{"v":88.7,"d":"88.70"}},"拟聘用人员"]
[2,"马莉娜","女",1994.06,{"$f":"VLOOKUP(B5:B24,[1]护理学!$B$3:$H$228,7,0)","v":"大专"},{"$f":"VLOOKUP(B5:B24,[1]护理学!$B$3:$J$228,9,0)","v":"青海卫生职业技术学院"},"护理学","054",{"v":84,"d":"84.00"},{"v":58.8,"d":"58.80"},{"v":87,"d":"87.00"},{"v":26.1,"d":"26.10"},{"v":84.9,"d":"84.90"},"拟聘用人员"]
[3,"张晶","女",1995.07,"大专",{"$f":"VLOOKUP(B6:B25,[1]护理学!$B$3:$J$228,9,0)","v":"青海卫生职业技术学院"},"护理学","046",{"v":83.5,"d":"83.50"},58.45,{"v":88,"d":"88.00"},{"v":26.4,"d":"26.40"},84.85,"拟聘用人员"]
[4,"张婧雯","女",1996.02,{"$f":"VLOOKUP(B7:B26,[1]护理学!$B$3:$H$228,7,0)","v":"大专"},{"$f":"VLOOKUP(B7:B26,[1]护理学!$B$3:$J$228,9,0)","v":"定西师范高等专科学校"},"护理学","153",{"v":86,"d":"86.00"},{"v":60.2,"d":"60.20"},{"v":81.4,"d":"81.40"},24.42,84.62,"拟聘用人员"]
[5,"齐淑艳","女",1996.08,{"$f":"VLOOKUP(B8:B27,[1]护理学!$B$3:$H$228,7,0)","v":"大专"},{"$f":"VLOOKUP(B8:B27,[1]护理学!$B$3:$J$228,9,0)","v":"青海卫生职业技术学院"},"护理学","115",{"v":81.5,"d":"81.50"},57.05,{"v":83.8,"d":"83.80"},25.14,82.19,"拟聘用人员"]
[6,"周金霞","女",1991.09,{"$f":"VLOOKUP(B9:B28,[1]护理学!$B$3:$H$228,7,0)","v":"大专"},{"$f":"VLOOKUP(B9:B28,[1]护理学!$B$3:$J$228,9,0)","v":"青海卫生职业技术学院"},"护理学","051",{"v":80.5,"d":"80.50"},56.35,{"v":84,"d":"84.00"},{"v":25.2,"d":"25.20"},81.55,"拟聘用人员"]
[7,"李冠玉","女",1996.12,{"$f":"VLOOKUP(B10:B29,[1]护理学!$B$3:$H$228,7,0)","v":"大专"},{"$f":"VLOOKUP(B10:B29,[1]护理学!$B$3:$J$228,9,0)","v":"青海卫生职业技术学院"},"护理学","211",{"v":77,"d":"77.00"},{"v":53.9,"d":"53.90"},{"v":91,"d":"91.00"},{"v":27.3,"d":"27.30"},{"v":81.2,"d":"81.20"},"拟聘用人员"]
[8,"车田梅","女",1994.1,{"$f":"VLOOKUP(B11:B30,[1]护理学!$B$3:$H$228,7,0)","v":"大专"},{"$f":"VLOOKUP(B11:B30,[1]护理学!$B$3:$J$228,9,0)","v":"长沙民政学院"},"护理学","043",{"v":82,"d":"82.00"},{"v":57.4,"d":"57.40"},{"v":77.4,"d":"77.40"},23.22,80.62,"拟聘用人员"]
[9,"陈文姬","女",1992.01,{"$f":"VLOOKUP(B12:B31,[1]护理学!$B$3:$H$228,7,0)","v":"大专"},{"$f":"VLOOKUP(B12:B31,[1]护理学!$B$3:$J$228,9,0)","v":"江西科技学院"},"护理学","041",{"v":79,"d":"79.00"},{"v":55.3,"d":"55.30"},{"v":82.6,"d":"82.60"},24.78,80.08,"拟聘用人员"]
[10,"柏婧雯","女",1996.03,{"$f":"VLOOKUP(B13:B32,[1]护理学!$B$3:$H$228,7,0)","v":"大专"},{"$f":"VLOOKUP(B13:B32,[1]护理学!$B$3:$J$228,9,0)","v":"山东省滨州职业学院"},"护理学","105",{"v":75,"d":"75.00"},{"v":52.5,"d":"52.50"},{"v":87.8,"d":"87.80"},26.34,78.84,"拟聘用人员"]
[11,"张文汇","女",1997.07,{"$f":"VLOOKUP(B14:B33,[1]护理学!$B$3:$H$228,7,0)","v":"大专"},{"$f":"VLOOKUP(B14:B33,[1]护理学!$B$3:$J$228,9,0)","v":"青海卫生职业技术学院"},"护理学","059",{"v":74.5,"d":"74.50"},52.15,{"v":87.8,"d":"87.80"},26.34,78.49,"拟聘用人员"]
[12,"樊万菊","女",{"v":1995.1,"d":"1995.10"},{"$f":"VLOOKUP(B15:B34,[1]护理学!$B$3:$H$228,7,0)","v":"本科"},{"$f":"VLOOKUP(B15:B34,[1]护理学!$B$3:$J$228,9,0)","v":"北京中医药大学东方学院"},"护理学","009",{"v":69.5,"d":"69.50"},48.65,{"v":90.2,"d":"90.20"},27.06,75.71,"拟聘用人员"]
[13,"谢铠欣","女",1995.01,{"$f":"VLOOKUP(B16:B35,[1]护理学!$B$3:$H$228,7,0)","v":"大专"},{"$f":"VLOOKUP(B16:B35,[1]护理学!$B$3:$J$228,9,0)","v":"青海卫生职业技术学院"},"护理学","050",{"v":70,"d":"70.00"},{"v":49,"d":"49.00"},{"v":88.8,"d":"88.80"},26.64,75.64,"拟聘用人员"]
[14,"赵国贞","女",1993.01,{"$f":"VLOOKUP(B17:B36,[1]护理学!$B$3:$H$228,7,0)","v":"大专"},{"$f":"VLOOKUP(B17:B36,[1]护理学!$B$3:$J$228,9,0)","v":"南昌理工学院"},"护理学","038",{"v":70,"d":"70.00"},{"v":49,"d":"49.00"},{"v":87,"d":"87.00"},{"v":26.1,"d":"26.10"},{"v":75.1,"d":"75.10"},"拟聘用人员"]
[15,"李慧","女",1997.05,{"$f":"VLOOKUP(B18:B37,[1]护理学!$B$3:$H$228,7,0)","v":"大专"},{"$f":"VLOOKUP(B18:B37,[1]护理学!$B$3:$J$228,9,0)","v":"廊坊卫生职业学校"},"护理学","112",{"v":71.5,"d":"71.50"},50.05,{"v":83.2,"d":"83.20"},24.96,75.01,"拟聘用人员"]
[16,"马文霞","女",1997.02,{"$f":"VLOOKUP(B19:B38,[1]护理学!$B$3:$H$228,7,0)","v":"大专"},{"$f":"VLOOKUP(B19:B38,[1]护理学!$B$3:$J$228,9,0)","v":"天津医学高等专科学校"},"护理学","190",{"v":71,"d":"71.00"},{"v":49.7,"d":"49.70"},{"v":76.4,"d":"76.40"},22.92,72.62,"拟聘用人员"]
[17,"解承玲","女",1996.03,{"$f":"VLOOKUP(B20:B39,[1]护理学!$B$3:$H$228,7,0)","v":"大专"},{"$f":"VLOOKUP(B20:B39,[1]护理学!$B$3:$J$228,9,0)","v":"青海卫生职业技术学院"},"护理学","195",{"v":69,"d":"69.00"},{"v":48.3,"d":"48.30"},{"v":75.8,"d":"75.80"},22.74,71.04,"拟聘用人员"]
[18,"王娟","女",1996.02,{"$f":"VLOOKUP(B21:B40,[1]护理学!$B$3:$H$228,7,0)","v":"大专"},{"$f":"VLOOKUP(B21:B40,[1]护理学!$B$3:$J$228,9,0)","v":"河西学院"},"护理学","217",{"v":64,"d":"64.00"},{"v":44.8,"d":"44.80"},{"v":87.4,"d":"87.40"},26.22,71.02,"拟聘用人员"]
[19,"刘亚琴","女",1996.12,{"$f":"VLOOKUP(B22:B42,[1]护理学!$B$3:$H$228,7,0)","v":"大专"},{"$f":"VLOOKUP(B22:B42,[1]护理学!$B$3:$J$228,9,0)","v":"天津医学高等专科学校"},"护理学","118",{"v":64,"d":"64.00"},{"v":44.8,"d":"44.80"},{"v":84.2,"d":"84.20"},25.26,70.06,"拟聘用人员"]
[20,"朱箫","男",1996.02,{"$f":"VLOOKUP(B23:B43,[1]护理学!$B$3:$H$228,7,0)","v":"大专"},{"$f":"VLOOKUP(B23:B43,[1]护理学!$B$3:$J$228,9,0)","v":"青海卫生职业技术学院"},"护理学","004",{"v":63,"d":"63.00"},{"v":44.1,"d":"44.10"},{"v":86,"d":"86.00"},{"v":25.8,"d":"25.80"},{"v":69.9,"d":"69.90"},"拟聘用人员"]
["护理学（限男性，报考急诊科、ICU、重症医学科岗位）"]
["序号","姓名","性别","出生年月","学历","毕业院校","专业","准考证号","笔试成绩","笔试成绩70%","面试成绩","面试成绩30%","总成绩","备注"]
[1,"曹翊翔","男",1996.07,"大专","青海卫生职业技术学院","护理学","034",{"v":67,"d":"67.00"},{"$f":"I26*0.7","v":{"v":46.9,"d":"46.90"}},{"v":94.6,"d":"94.60"},{"$f":"K26*0.3","v":28.38},{"$f":"J26+L26","v":75.28},"拟聘用人员"]
[2,"李晟年","男",{"v":1999.1,"d":"1999.10"},"大专","青海卫生职业技术学院","护理学","036",{"v":68.5,"d":"68.50"},47.95,{"v":83.4,"d":"83.40"},25.02,72.97,"拟聘用人员"]
[3,"马涛","男",1996.06,"大专","青海卫生职业技术学院","护理学","035",{"v":67,"d":"67.00"},{"v":46.9,"d":"46.90"},{"v":81,"d":"81.00"},{"v":24.3,"d":"24.30"},{"v":71.2,"d":"71.20"},"拟聘用人员"]
[4,"麻轩玮","男",1997.12,"大专","青海卫生职业技术学院","护理学","037",{"v":63,"d":"63.00"},{"v":44.1,"d":"44.10"},{"v":89.4,"d":"89.40"},26.82,70.92,"拟聘用人员"]
[5,"刘超","男",1998.06,"大专","青海卫生职业技术学院","护理学","029",{"v":61,"d":"61.00"},{"v":42.7,"d":"42.70"},{"v":85.8,"d":"85.80"},25.74,68.44,"拟聘用人员"]
[6,"孙浩天","男",1996.02,"大专","青海卫生职业技术学院","护理学","027",{"v":55.5,"d":"55.50"},38.85,{"v":87.8,"d":"87.80"},26.34,65.19,"拟聘用人员"]
[7,"牛生贵","男",1996.11,"大专","青海卫生职业技术学院","护理学","031",{"v":56,"d":"56.00"},{"v":39.2,"d":"39.20"},{"v":85.4,"d":"85.40"},25.62,64.82,"拟聘用人员"]
[8,"包富军","男",1996.02,"大专","平顶山市工业职业技术学院","护理学","021",{"v":61,"d":"61.00"},{"v":42.7,"d":"42.70"},{"v":73.6,"d":"73.60"},22.08,64.78,"拟聘用人员"]
[9,"杨德斌","男",1996.08,"大专","黄冈职业技术学院","护理学","020",{"v":59,"d":"59.00"},{"v":41.3,"d":"41.30"},{"v":74,"d":"74.00"},{"v":22.2,"d":"22.20"},{"v":63.5,"d":"63.50"},"拟聘用人员"]
[10,"王鹏","男",1996.01,"大专","天津医学高等专科学校","护理学","017",{"v":55,"d":"55.00"},{"v":38.5,"d":"38.50"},{"v":83.2,"d":"83.20"},24.96,63.46,"拟聘用人员"]
["会计学、财务管理"]
["序号","姓名","性别","出生年月","学历","毕业院校","专业","准考证号","笔试成绩","笔试成绩70%","面试成绩","面试成绩30%","总成绩","备注"]
[1,"陈燕","女","1994.11","本科","山西农业大学信息学院","财务管理","233",{"v":87,"d":"87.00"},{"v":60.9,"d":"60.90"},{"v":90.6,"d":"90.60"},27.18,88.08,"拟聘用人员"]
[2,"丑娟","女","1995.10","本科","西安交通大学城市学院","财务管理","240",{"v":83.5,"d":"83.50"},58.45,{"v":88.8,"d":"88.80"},26.64,85.09,"拟聘用人员"]
[3,"赵洪渊","女",1994.12,"本科","西北民族大学","会计学","239",{"v":81,"d":"81.00"},{"v":56.7,"d":"56.70"},{"v":87.4,"d":"87.40"},26.22,82.92,"拟聘用人员"]
[]
["医学影像学"]
["序号","姓名","性别","出生年月","学历","毕业院校","专业","准考证号","笔试成绩","笔试成绩70%","面试成绩","面试成绩30%","总成绩","备注"]
[1,"邵得兰","女",1993.09,"本科","山西医科大学","医学影像学","275",{"v":74,"d":"74.00"},{"v":51.8,"d":"51.80"},{"v":79.2,"d":"79.20"},23.76,75.56,"拟聘用人员"]
[2,"李月","女",1995.12,"本科","青海大学","医学影像学","259",{"v":55,"d":"55.00"},{"v":38.5,"d":"38.50"},{"v":80.6,"d":"80.60"},24.18,62.68,"自愿放弃"]
[3,"沈贵芳","女",1995.08,"本科","青海大学","医学影像学","269",{"v":60,"d":"60.00"},{"v":42,"d":"42.00"},{"v":68.8,"d":"68.80"},20.64,62.64,"拟聘用人员"]
[4,"马丽梅","女",1996.01,"本科","青海大学医学院","医学影像学","267",{"v":57,"d":"57.00"},{"v":39.9,"d":"39.90"},{"v":71.4,"d":"71.40"},21.42,61.32,"拟聘用人员"]
[5,"马瑞","女",1995.11,"本科","青海大学","医学影像学","263",{"v":53,"d":"53.00"},{"v":37.1,"d":"37.10"},{"v":72.2,"d":"72.20"},21.66,58.76,"拟聘用人员"]
[6,"卓么","女",1993.06,"本科","青海大学医学院","医学影像学","272",{"v":50,"d":"50.00"},{"v":35,"d":"35.00"},{"v":77.8,"d":"77.80"},23.34,58.34,"自愿放弃"]
[7,"杨春雨","女",1995.03,"本科","甘肃中医药大学","医学影像学","255",{"v":50,"d":"50.00"},{"v":35,"d":"35.00"},{"v":75,"d":"75.00"},{"v":22.5,"d":"22.50"},{"v":57.5,"d":"57.50"},"拟聘用人员（省外）"]
[8,"马玉珍","女",1996.12,"本科","青海大学医学院","医学影像学","257",{"v":49,"d":"49.00"},{"v":34.3,"d":"34.30"},{"v":75,"d":"75.00"},{"v":22.5,"d":"22.50"},{"v":56.8,"d":"56.80"},"拟聘用人员"]
[9,"杨梅","女","1995.10","本科","山西医科大学","医学影像学","248",{"v":54,"d":"54.00"},{"v":37.8,"d":"37.80"},{"v":60,"d":"60.00"},{"v":18,"d":"18.00"},{"v":55.8,"d":"55.80"},"拟聘用人员（省外）"]
[10,"胡佳雯","女",{"v":1996.1,"d":"1996.10"},"本科","青海大学医学院","医学影像学","266",{"v":45,"d":"45.00"},{"v":31.5,"d":"31.50"},{"v":80,"d":"80.00"},{"v":24,"d":"24.00"},{"v":55.5,"d":"55.50"},"拟聘用人员"]
[11,"王瑾","女",1996.06,"本科","湖南中医药大学","医学影像学","249",{"v":49,"d":"49.00"},{"v":34.3,"d":"34.30"},{"v":70.4,"d":"70.40"},21.12,55.42,"拟聘用人员（省外）"]
[12,"李秀娟","女",1995.09,"本科","贵州医科大学","医学影像学","251",{"v":43,"d":"43.00"},{"v":30.1,"d":"30.10"},{"v":74.4,"d":"74.40"},22.32,52.42,"拟聘用人员"]
[13,"安玉花","女",1993.03,"本科","青海大学医学院","医学影像学","268",{"v":41,"d":"41.00"},{"v":28.7,"d":"28.70"},{"v":76.6,"d":"76.60"},22.98,51.68,"递补拟聘用人员"]
[14,"车占萍","女",1993.12,"本科","齐鲁医药学院","医学影像学","273",{"v":44,"d":"44.00"},{"v":30.8,"d":"30.80"},{"v":66.2,"d":"66.20"},19.86,50.66,"递补拟聘用人员"]
["临床医学"]
["序号","姓名","性别","出生年月","学历","毕业院校","专业","准考证号","笔试成绩","笔试成绩70%","面试成绩","面试成绩30%","总成绩","备注"]
[1,"邹亮",{"$f":"VLOOKUP(B60:B93,[1]临床医学!$B$3:$C$78,2,0)","v":"男"},1995.05,"本科",{"$f":"VLOOKUP(B60:B93,[1]临床医学!$B$3:$J$78,9,0)","v":"青海大学医学院"},"临床医学","283",{"v":65,"d":"65.00"},{"v":45.5,"d":"45.50"},{"v":86.6,"d":"86.60"},25.98,71.48,"拟聘用人员"]
[2,"陶秀德",{"$f":"VLOOKUP(B61:B94,[1]临床医学!$B$3:$C$78,2,0)","v":"女"},1995.12,"本科",{"$f":"VLOOKUP(B61:B94,[1]临床医学!$B$3:$J$78,9,0)","v":"青海大学"},"临床医学","324",{"v":64,"d":"64.00"},{"v":44.8,"d":"44.80"},{"v":88.6,"d":"88.60"},26.58,71.38,"拟聘用人员（省外）"]
[3,"杜柳丹",{"$f":"VLOOKUP(B62:B95,[1]临床医学!$B$3:$C$78,2,0)","v":"女"},1994.05,"本科",{"$f":"VLOOKUP(B62:B95,[1]临床医学!$B$3:$J$78,9,0)","v":"青海大学"},"临床医学","288",{"v":63,"d":"63.00"},{"v":44.1,"d":"44.10"},{"v":81.6,"d":"81.60"},24.48,68.58,"拟聘用人员"]
[4,"李晓娜",{"$f":"VLOOKUP(B63:B96,[1]临床医学!$B$3:$C$78,2,0)","v":"女"},{"v":1995.1,"d":"1995.10"},"本科",{"$f":"VLOOKUP(B63:B96,[1]临床医学!$B$3:$J$78,9,0)","v":"天津医科大学临床医学院"},"临床医学","332",{"v":60,"d":"60.00"},{"v":42,"d":"42.00"},{"v":87.6,"d":"87.60"},26.28,68.28,"拟聘用人员（省外）"]
[5,"王万军",{"$f":"VLOOKUP(B64:B97,[1]临床医学!$B$3:$C$78,2,0)","v":"男"},"1994.03","本科",{"$f":"VLOOKUP(B64:B97,[1]临床医学!$B$3:$J$78,9,0)","v":"青海大学医学院"},"临床医学","287",{"v":59,"d":"59.00"},{"v":41.3,"d":"41.30"},{"v":89.4,"d":"89.40"},26.82,68.12,"自愿放弃"]
[6,"王延华",{"$f":"VLOOKUP(B65:B98,[1]临床医学!$B$3:$C$78,2,0)","v":"女"},1992.03,"本科",{"$f":"VLOOKUP(B65:B98,[1]临床医学!$B$3:$J$78,9,0)","v":"长沙医学院"},"临床医学","286",{"v":60,"d":"60.00"},{"v":42,"d":"42.00"},{"v":82,"d":"82.00"},{"v":24.6,"d":"24.60"},{"v":66.6,"d":"66.60"},"拟聘用人员"]
[7,"黄萍",{"$f":"VLOOKUP(B66:B99,[1]临床医学!$B$3:$C$78,2,0)","v":"女"},1995.03,"本科",{"$f":"VLOOKUP(B66:B99,[1]临床医学!$B$3:$J$78,9,0)","v":"湖北医药学院"},"临床医学","311",{"v":57,"d":"57.00"},{"v":39.9,"d":"39.90"},{"v":85.8,"d":"85.80"},25.74,65.64,"拟聘用人员（省外）"]
[8,"王忠林",{"$f":"VLOOKUP(B67:B100,[1]临床医学!$B$3:$C$78,2,0)","v":"男"},1994.11,"本科",{"$f":"VLOOKUP(B67:B100,[1]临床医学!$B$3:$J$78,9,0)","v":"天津医科大学临床医学院"},"临床医学","279",{"v":56,"d":"56.00"},{"v":39.2,"d":"39.20"},{"v":87.4,"d":"87.40"},26.22,65.42,"拟聘用人员"]
[9,"李学斌",{"$f":"VLOOKUP(B68:B101,[1]临床医学!$B$3:$C$78,2,0)","v":"男"},1994.01,"本科",{"$f":"VLOOKUP(B68:B101,[1]临床医学!$B$3:$J$78,9,0)","v":"佳木斯大学"},"临床医学","291",{"v":60,"d":"60.00"},{"v":42,"d":"42.00"},{"v":77.2,"d":"77.20"},23.16,65.16,"拟聘用人员"]
[10,"高荣",{"$f":"VLOOKUP(B69:B102,[1]临床医学!$B$3:$C$78,2,0)","v":"女"},1991.05,"本科",{"$f":"VLOOKUP(B69:B102,[1]临床医学!$B$3:$J$78,9,0)","v":"海南医学院"},"临床医学","282",{"v":61,"d":"61.00"},{"v":42.7,"d":"42.70"},{"v":72.8,"d":"72.80"},21.84,64.54,"拟聘用人员"]
[11,"华毛卓玛",{"$f":"VLOOKUP(B70:B103,[1]临床医学!$B$3:$C$78,2,0)","v":"女"},1992.08,"本科",{"$f":"VLOOKUP(B70:B103,[1]临床医学!$B$3:$J$78,9,0)","v":"山西医科大学汾阳学院"},"临床医学","309",{"v":53,"d":"53.00"},{"v":37.1,"d":"37.10"},{"v":85.8,"d":"85.80"},25.74,62.84,"拟聘用人员"]
[12,"马晓燕",{"$f":"VLOOKUP(B71:B104,[1]临床医学!$B$3:$C$78,2,0)","v":"女"},1997.07,"本科",{"$f":"VLOOKUP(B71:B104,[1]临床医学!$B$3:$J$78,9,0)","v":"西北民族大学"},"临床医学","331",{"v":51,"d":"51.00"},{"v":35.7,"d":"35.70"},{"v":87.8,"d":"87.80"},26.34,62.04,"拟聘用人员"]
[13,"张亚平",{"$f":"VLOOKUP(B72:B105,[1]临床医学!$B$3:$C$78,2,0)","v":"女"},1993.03,"本科",{"$f":"VLOOKUP(B72:B105,[1]临床医学!$B$3:$J$78,9,0)","v":"甘肃中医药大学"},"临床医学","293",{"v":53,"d":"53.00"},{"v":37.1,"d":"37.10"},{"v":82.4,"d":"82.40"},24.72,61.82,"拟聘用人员"]
[14,"李存祥",{"$f":"VLOOKUP(B73:B106,[1]临床医学!$B$3:$C$78,2,0)","v":"女"},1995.02,"本科",{"$f":"VLOOKUP(B73:B106,[1]临床医学!$B$3:$J$78,9,0)","v":"滨州医学院"},"临床医学","294",{"v":58,"d":"58.00"},{"v":40.6,"d":"40.60"},{"v":68,"d":"68.00"},{"v":20.4,"d":"20.40"},{"v":61,"d":"61.00"},"自愿放弃"]
[15,"李国娥",{"$f":"VLOOKUP(B74:B107,[1]临床医学!$B$3:$C$78,2,0)","v":"女"},1994.05,"本科",{"$f":"VLOOKUP(B74:B107,[1]临床医学!$B$3:$J$78,9,0)","v":"天津医科大学临床医学院"},"临床医学","292",{"v":51,"d":"51.00"},{"v":35.7,"d":"35.70"},{"v":84.2,"d":"84.20"},25.26,60.96,"自愿放弃"]
[16,"马睿",{"$f":"VLOOKUP(B75:B108,[1]临床医学!$B$3:$C$78,2,0)","v":"女"},1995.03,"本科",{"$f":"VLOOKUP(B75:B108,[1]临床医学!$B$3:$J$78,9,0)","v":"西北民族大学"},"临床医学","299",{"v":60,"d":"60.00"},{"v":42,"d":"42.00"},{"v":63.2,"d":"63.20"},18.96,60.96,"拟聘用人员（省外）"]
[17,"张瑾",{"$f":"VLOOKUP(B76:B109,[1]临床医学!$B$3:$C$78,2,0)","v":"女"},1995.04,"本科",{"$f":"VLOOKUP(B76:B109,[1]临床医学!$B$3:$J$78,9,0)","v":"大连大学"},"临床医学","308",{"v":52,"d":"52.00"},{"v":36.4,"d":"36.40"},{"v":81.4,"d":"81.40"},24.42,60.82,"自愿放弃"]
[18,"刘锦阳",{"$f":"VLOOKUP(B77:B110,[1]临床医学!$B$3:$C$78,2,0)","v":"男"},1995.09,"本科",{"$f":"VLOOKUP(B77:B110,[1]临床医学!$B$3:$J$78,9,0)","v":"牡丹江医学院"},"临床医学","322",{"v":57,"d":"57.00"},{"v":39.9,"d":"39.90"},{"v":68.2,"d":"68.20"},20.46,60.36,"拟聘用人员（省外）"]
[19,"马桂英",{"$f":"VLOOKUP(B78:B111,[1]临床医学!$B$3:$C$78,2,0)","v":"女"},1991.01,"本科",{"$f":"VLOOKUP(B78:B111,[1]临床医学!$B$3:$J$78,9,0)","v":"齐鲁医学院"},"临床医学","297",{"v":47,"d":"47.00"},{"v":32.9,"d":"32.90"},{"v":90,"d":"90.00"},{"v":27,"d":"27.00"},{"v":59.9,"d":"59.90"},"拟聘用人员"]
[20,"颜晓珺",{"$f":"VLOOKUP(B79:B112,[1]临床医学!$B$3:$C$78,2,0)","v":"女"},1995.01,"本科",{"$f":"VLOOKUP(B79:B112,[1]临床医学!$B$3:$J$78,9,0)","v":"天津医科大学临床医学院"},"临床医学","306",{"v":48,"d":"48.00"},{"v":33.6,"d":"33.60"},{"v":86.6,"d":"86.60"},25.98,59.58,"拟聘用人员"]
[21,"武娇",{"$f":"VLOOKUP(B80:B113,[1]临床医学!$B$3:$C$78,2,0)","v":"女"},1995.11,"本科",{"$f":"VLOOKUP(B80:B113,[1]临床医学!$B$3:$J$78,9,0)","v":"天津医科大学临床医学院"},"临床医学","321",{"v":50,"d":"50.00"},{"v":35,"d":"35.00"},{"v":81.6,"d":"81.60"},24.48,59.48,"拟聘用人员"]
[22,"赵玉虎",{"$f":"VLOOKUP(B81:B114,[1]临床医学!$B$3:$C$78,2,0)","v":"男"},1996.01,"本科",{"$f":"VLOOKUP(B81:B114,[1]临床医学!$B$3:$J$78,9,0)","v":"青海大学"},"临床医学","319",{"v":47,"d":"47.00"},{"v":32.9,"d":"32.90"},{"v":88.2,"d":"88.20"},26.46,59.36,"自愿放弃"]
[23,"李娇",{"$f":"VLOOKUP(B82:B115,[1]临床医学!$B$3:$C$78,2,0)","v":"女"},1997.02,"本科",{"$f":"VLOOKUP(B82:B115,[1]临床医学!$B$3:$J$78,9,0)","v":"齐鲁医药学院"},"临床医学","298",{"v":51,"d":"51.00"},{"v":35.7,"d":"35.70"},{"v":77.6,"d":"77.60"},23.28,58.98,"拟聘用人员"]
[24,"颜学栋",{"$f":"VLOOKUP(B83:B116,[1]临床医学!$B$3:$C$78,2,0)","v":"男"},1991.11,"本科",{"$f":"VLOOKUP(B83:B116,[1]临床医学!$B$3:$J$78,9,0)","v":"吉林医药学院"},"临床医学","295",{"v":53,"d":"53.00"},{"v":37.1,"d":"37.10"},{"v":72.6,"d":"72.60"},21.78,58.88,"拟聘用人员"]
[25,"喇成妍",{"$f":"VLOOKUP(B84:B117,[1]临床医学!$B$3:$C$78,2,0)","v":"女"},1996.07,"本科",{"$f":"VLOOKUP(B84:B117,[1]临床医学!$B$3:$J$78,9,0)","v":"天津医科大学"},"临床医学","281",{"v":48,"d":"48.00"},{"v":33.6,"d":"33.60"},{"v":83.6,"d":"83.60"},25.08,58.68,"拟聘用人员"]
[26,"撒梅",{"$f":"VLOOKUP(B85:B118,[1]临床医学!$B$3:$C$78,2,0)","v":"女"},1995.09,"本科",{"$f":"VLOOKUP(B85:B118,[1]临床医学!$B$3:$J$78,9,0)","v":"延安大学"},"临床医学","325",{"v":51,"d":"51.00"},{"v":35.7,"d":"35.70"},{"v":72.2,"d":"72.20"},21.66,57.36,"拟聘用人员"]
[27,"韩英",{"$f":"VLOOKUP(B86:B119,[1]临床医学!$B$3:$C$78,2,0)","v":"女"},1996.01,"本科",{"$f":"VLOOKUP(B86:B119,[1]临床医学!$B$3:$J$78,9,0)","v":"承德医学院"},"临床医学","314",{"v":52,"d":"52.00"},{"v":36.4,"d":"36.40"},{"v":67.2,"d":"67.20"},20.16,56.56,"自愿放弃"]
[28,"马翔",{"$f":"VLOOKUP(B87:B120,[1]临床医学!$B$3:$C$78,2,0)","v":"男"},1994.04,"本科",{"$f":"VLOOKUP(B87:B120,[1]临床医学!$B$3:$J$78,9,0)","v":"天津医科大学临床医学院"},"临床医学","280",{"v":56,"d":"56.00"},{"v":39.2,"d":"39.20"},{"v":55.6,"d":"55.60"},16.68,55.88,"拟聘用人员"]
[29,"董雅瑾",{"$f":"VLOOKUP(B88:B121,[1]临床医学!$B$3:$C$78,2,0)","v":"女"},1995.02,"本科",{"$f":"VLOOKUP(B88:B121,[1]临床医学!$B$3:$J$78,9,0)","v":"昆明医科大学海源学院"},"临床医学","276",{"v":50,"d":"50.00"},{"v":35,"d":"35.00"},{"v":69.2,"d":"69.20"},20.76,55.76,"拟聘用人员"]
[30,"赵悦",{"$f":"VLOOKUP(B89:B122,[1]临床医学!$B$3:$C$78,2,0)","v":"女"},1994.11,"本科",{"$f":"VLOOKUP(B89:B122,[1]临床医学!$B$3:$J$78,9,0)","v":"昆明医科大学海源学院"},"临床医学","284",{"v":44,"d":"44.00"},{"v":30.8,"d":"30.80"},{"v":72,"d":"72.00"},{"v":21.6,"d":"21.60"},{"v":52.4,"d":"52.40"},"拟聘用人员"]
[31,"刘满桂",{"$f":"VLOOKUP(B90:B123,[1]临床医学!$B$3:$C$78,2,0)","v":"女"},1995.11,"本科",{"$f":"VLOOKUP(B90:B123,[1]临床医学!$B$3:$J$78,9,0)","v":"长沙医学院"},"临床医学","326",{"v":42,"d":"42.00"},{"v":29.4,"d":"29.40"},{"v":75.8,"d":"75.80"},22.74,52.14,"拟聘用人员（省外）"]
[32,"孙万瑛",{"$f":"VLOOKUP(B91:B127,[1]临床医学!$B$3:$C$78,2,0)","v":"女"},1995.07,"本科",{"$f":"VLOOKUP(B91:B127,[1]临床医学!$B$3:$J$78,9,0)","v":"天津医科大学临床医学院"},"临床医学","334",{"v":38,"d":"38.00"},{"v":26.6,"d":"26.60"},{"v":60,"d":"60.00"},{"v":18,"d":"18.00"},{"v":44.6,"d":"44.60"},"拟聘用人员（省外）"]
[33,"刘凡",{"$f":"VLOOKUP(B92:B128,[1]临床医学!$B$3:$C$78,2,0)","v":"女"},1996.01,"本科",{"$f":"VLOOKUP(B92:B128,[1]临床医学!$B$3:$J$78,9,0)","v":"天津医科大学临床医学院"},"临床医学","305",{"v":31,"d":"31.00"},{"v":21.7,"d":"21.70"},{"v":72.8,"d":"72.80"},21.84,43.54,"拟聘用人员"]
[34,"乔石秀",{"$f":"VLOOKUP(B93:B130,[1]临床医学!$B$3:$C$78,2,0)","v":"女"},1994.05,"本科",{"$f":"VLOOKUP(B93:B130,[1]临床医学!$B$3:$J$78,9,0)","v":"承德医学院"},"临床医学","315",{"v":30,"d":"30.00"},{"v":21,"d":"21.00"},{"v":65.6,"d":"65.60"},19.68,40.68,"拟聘用人员（省外）"]